BEGIN:VCALENDAR
VERSION:2.0
PRODID:-//pretix//pretix.eu//
BEGIN:VEVENT
UID:pretix-bing-2026-eha-0@events.barbershop.de
DTSTART;VALUE=DATE:20260802
DTEND;VALUE=DATE:20260810
DESCRIPTION:Tickets: https://events.barbershop.de/2026-eha/\nAdmission: 202
 6-08-02 14:00\nOrganizer: BinG! Barbershop in Germany e.V.
DTSTAMP:20260422T124822Z
LOCATION:Seminar Blaubeuren\, Klosterhof 2\, 89143 Blaubeuren\, Germany
SUMMARY:European Harmony Academy 2026
END:VEVENT
BEGIN:VEVENT
UID:pretix-bing-2026-BinG-HC-0@events.barbershop.de
DTSTART;VALUE=DATE:20261002
DTEND;VALUE=DATE:20261006
DESCRIPTION:Tickets: https://events.barbershop.de/2026-BinG-HC/\nAdmission:
  2026-10-02 13:00\nOrganizer: BinG! Barbershop in Germany e.V.
DTSTAMP:20260422T124822Z
LOCATION:Rheintal-Jugendherberge Oberwesel\, Auf dem Schönberg\, 55430 Obe
 rwesel
SUMMARY:BinG! Harmony College 2026
END:VEVENT
END:VCALENDAR
